BEGIN:VCALENDAR
VERSION:2.0
PRODID:-//ציפור הנפש - ECPv5.3.0//NONSGML v1.0//EN
CALSCALE:GREGORIAN
METHOD:PUBLISH
X-WR-CALNAME:ציפור הנפש
X-ORIGINAL-URL:http://www.soulbird.co.il
X-WR-CALDESC:אירועים ל ציפור הנפש
BEGIN:VTIMEZONE
TZID:Asia/Jerusalem
BEGIN:DAYLIGHT
TZOFFSETFROM:+0200
TZOFFSETTO:+0300
TZNAME:IDT
DTSTART:20200327T000000
END:DAYLIGHT
BEGIN:STANDARD
TZOFFSETFROM:+0300
TZOFFSETTO:+0200
TZNAME:IST
DTSTART:20201024T230000
END:STANDARD
END:VTIMEZONE
BEGIN:VEVENT
DTSTART;TZID=Asia/Jerusalem:20201006T160000
DTEND;TZID=Asia/Jerusalem:20201006T173000
DTSTAMP:20210529T061306
CREATED:20201210T081810Z
LAST-MODIFIED:20201210T081810Z
UID:1296-1602000000-1602005400@www.soulbird.co.il
SUMMARY:סדנה של אמן חושים
DESCRIPTION:אנחנו מזמינים אתכם\, הורים וילדים\, להצטרף אלינו לסדנה של אמן החושים מתן רוזנברג! \n 
URL:http://www.soulbird.co.il/event/%d7%a1%d7%93%d7%a0%d7%94-%d7%a9%d7%9c-%d7%90%d7%9e%d7%9f-%d7%97%d7%95%d7%a9%d7%99%d7%9d/
ATTACH;FMTTYPE=image/jpeg:http://www.soulbird.co.il/wp-content/uploads/אמן-חושים-השרון.jpeg
END:VEVENT
END:VCALENDAR