BEGIN:VCALENDAR
VERSION:2.0
PRODID:-//ציפור הנפש - ECPv5.3.0//NONSGML v1.0//EN
CALSCALE:GREGORIAN
METHOD:PUBLISH
X-WR-CALNAME:ציפור הנפש
X-ORIGINAL-URL:http://www.soulbird.co.il
X-WR-CALDESC:אירועים ל ציפור הנפש
BEGIN:VTIMEZONE
TZID:Asia/Jerusalem
BEGIN:DAYLIGHT
TZOFFSETFROM:+0200
TZOFFSETTO:+0300
TZNAME:IDT
DTSTART:20210326T000000
END:DAYLIGHT
BEGIN:STANDARD
TZOFFSETFROM:+0300
TZOFFSETTO:+0200
TZNAME:IST
DTSTART:20211030T230000
END:STANDARD
END:VTIMEZONE
BEGIN:VEVENT
DTSTART;TZID=Asia/Jerusalem:20210425T200000
DTEND;TZID=Asia/Jerusalem:20210425T210000
DTSTAMP:20210427T131730
CREATED:20210318T094736Z
LAST-MODIFIED:20210318T094736Z
UID:1449-1619380800-1619384400@www.soulbird.co.il
SUMMARY:שיח קפה להורים מתמודדים
DESCRIPTION:מפגש שיח קפה בZOOM\, מתרחש בימי ראשון אחת לשבועיים. \nהמפגש נותן מקום להורים מתמודדים לשתף בניסיון שלהם\, לדבר ולשמוע כשכל פעם עוסקים בנושא אחר. \nמנחות השיח מתחלפות בכל פעם והן חלק מהצוות של מרכז ציפור הנפש תל אביב. \nקישור לזום \nנשמח לראותכם!
URL:http://www.soulbird.co.il/event/%d7%a9%d7%99%d7%97-%d7%a7%d7%a4%d7%94-%d7%9c%d7%94%d7%95%d7%a8%d7%99%d7%9d-%d7%9e%d7%aa%d7%9e%d7%95%d7%93%d7%93%d7%99%d7%9d-18/
END:VEVENT
END:VCALENDAR