BEGIN:VCALENDAR
VERSION:2.0
PRODID:-//ציפור הנפש - ECPv5.3.0//NONSGML v1.0//EN
CALSCALE:GREGORIAN
METHOD:PUBLISH
X-WR-CALNAME:ציפור הנפש
X-ORIGINAL-URL:http://www.soulbird.co.il
X-WR-CALDESC:אירועים ל ציפור הנפש
BEGIN:VTIMEZONE
TZID:Asia/Jerusalem
BEGIN:DAYLIGHT
TZOFFSETFROM:+0200
TZOFFSETTO:+0300
TZNAME:IDT
DTSTART:20210326T000000
END:DAYLIGHT
BEGIN:STANDARD
TZOFFSETFROM:+0300
TZOFFSETTO:+0200
TZNAME:IST
DTSTART:20211030T230000
END:STANDARD
END:VTIMEZONE
BEGIN:VEVENT
DTSTART;TZID=Asia/Jerusalem:20210309T200000
DTEND;TZID=Asia/Jerusalem:20210309T203000
DTSTAMP:20210515T161230
CREATED:20210201T071914Z
LAST-MODIFIED:20210201T071914Z
UID:1415-1615320000-1615321800@www.soulbird.co.il
SUMMARY:שיח קפה להורים מתמודדים
DESCRIPTION:הורים יקרים\,\nצוות ציפור הנפש מזמין אתכם\, לקחת חלק במפגשים המיועדים להורים המתמודדים עם בעיות נפשיות. זוהי הזדמנות להכיר הורים מתמודדים נוספים\, לשתף\, להתלבט ולקבל הכוונה בנושא הורות\, משפחה ובכלל\, וכל זאת באווירה אינטימית וחווייתית מהסלון שלכם.\nהמפגשים יתקיימו בימי שלישי\, אחת לשבוע\, נפגש בזום\, בשעה 20:00-21:30\nההשתתפות במפגשים אינה כרוכה בתשלום או באישור מיוחד. פעילות המרכז במימון ובפיקוח משרד הבריאות. \nוהפעם 6 מפגשים ברצף שיעסקו בהורות ותקשורת מיטבית (לא חובה להשתתף בכולם). \nhttps://us02web.zoom.us/j/89800854470?pwd=T0tvR2l2QWZzYUF6VVIrZll5bFErUT09 \nMeeting ID: 898 0085 4470 \nPasscode: 247914 \nנשמח לראותכם!
URL:http://www.soulbird.co.il/event/%d7%a9%d7%99%d7%97-%d7%a7%d7%a4%d7%94-%d7%9c%d7%94%d7%95%d7%a8%d7%99%d7%9d-%d7%9e%d7%aa%d7%9e%d7%95%d7%93%d7%93%d7%99%d7%9d-15/
LOCATION:ZOOM
END:VEVENT
END:VCALENDAR